Package: kmcut Version: 1.3.0 Command: /home/biocbuild/bbs-3.22-bioc/R/bin/R CMD INSTALL kmcut StartedAt: 2025-10-19 15:24:41 -0400 (Sun, 19 Oct 2025) EndedAt: 2025-10-19 15:25:02 -0400 (Sun, 19 Oct 2025) EllapsedTime: 21.7 seconds RetCode: 0 Status: OK