Package: kmcut Version: 1.3.0 Command: /Library/Frameworks/R.framework/Resources/bin/R CMD INSTALL kmcut StartedAt: 2025-10-19 15:25:37 -0400 (Sun, 19 Oct 2025) EndedAt: 2025-10-19 15:26:07 -0400 (Sun, 19 Oct 2025) EllapsedTime: 29.8 seconds RetCode: 0 Status: OK