Package: kmcut Version: 1.3.0 Command: /Library/Frameworks/R.framework/Resources/bin/R CMD check --install=check:kmcut.install-out.txt --library=/Library/Frameworks/R.framework/Resources/library --no-vignettes --timings kmcut_1.3.0.tar.gz StartedAt: 2025-10-19 23:21:38 -0400 (Sun, 19 Oct 2025) EndedAt: 2025-10-19 23:24:38 -0400 (Sun, 19 Oct 2025) EllapsedTime: 180.3 seconds RetCode: 0 Status: OK CheckDir: kmcut.Rcheck Warnings: 0