Package: kmcut Version: 1.3.0 Command: /Library/Frameworks/R.framework/Resources/bin/R CMD build --keep-empty-dirs --no-resave-data kmcut StartedAt: 2025-10-19 17:49:09 -0400 (Sun, 19 Oct 2025) EndedAt: 2025-10-19 17:50:09 -0400 (Sun, 19 Oct 2025) EllapsedTime: 59.8 seconds RetCode: 0 Status: OK PackageFile: kmcut_1.3.0.tar.gz PackageFileSize: 1.259 MiB