Package: kmcut Version: 1.3.0 Command: rm -rf kmcut.buildbin-libdir && mkdir kmcut.buildbin-libdir && /Users/biocbuild/BBS/utils/build-universal.sh kmcut_1.3.0.tar.gz /Library/Frameworks/R.framework/Resources/bin/R kmcut.buildbin-libdir StartedAt: 2025-10-20 03:16:00 -0400 (Mon, 20 Oct 2025) EndedAt: 2025-10-20 03:16:33 -0400 (Mon, 20 Oct 2025) EllapsedTime: 32.8 seconds RetCode: 0 Status: OK PackageFile: kmcut_1.3.0.tgz PackageFileSize: 1.279 MiB