Package: kmcut Version: 1.3.0 Command: /Library/Frameworks/R.framework/Resources/bin/R CMD check --install=check:kmcut.install-out.txt --library=/Library/Frameworks/R.framework/Resources/library --no-vignettes --timings kmcut_1.3.0.tar.gz StartedAt: 2025-10-19 20:21:35 -0400 (Sun, 19 Oct 2025) EndedAt: 2025-10-19 20:22:32 -0400 (Sun, 19 Oct 2025) EllapsedTime: 56.7 seconds RetCode: 0 Status: OK CheckDir: kmcut.Rcheck Warnings: 0