Package: kissDE Version: 1.29.0 Command: /Library/Frameworks/R.framework/Resources/bin/R CMD INSTALL kissDE StartedAt: 2025-10-01 15:35:14 -0400 (Wed, 01 Oct 2025) EndedAt: 2025-10-01 15:36:12 -0400 (Wed, 01 Oct 2025) EllapsedTime: 58.3 seconds RetCode: 0 Status: OK