Package: kissDE Version: 1.29.0 Command: rm -rf kissDE.buildbin-libdir && mkdir kissDE.buildbin-libdir && /Users/biocbuild/BBS/utils/build-universal.sh kissDE_1.29.0.tar.gz /Library/Frameworks/R.framework/Resources/bin/R kissDE.buildbin-libdir StartedAt: 2025-10-02 01:57:13 -0400 (Thu, 02 Oct 2025) EndedAt: 2025-10-02 01:58:15 -0400 (Thu, 02 Oct 2025) EllapsedTime: 61.8 seconds RetCode: 0 Status: OK PackageFile: kissDE_1.29.0.tgz PackageFileSize: 771.9 KiB