Package: keggorthology Version: 2.61.0 Command: /home/biocbuild/R/R/bin/R CMD INSTALL keggorthology StartedAt: 2025-10-09 21:19:57 -0000 (Thu, 09 Oct 2025) EndedAt: 2025-10-09 21:20:14 -0000 (Thu, 09 Oct 2025) EllapsedTime: 16.6 seconds RetCode: 0 Status: OK