Package: keggorthology Version: 2.61.0 Command: /Library/Frameworks/R.framework/Resources/bin/R CMD build --keep-empty-dirs --no-resave-data keggorthology StartedAt: 2025-10-08 17:43:44 -0400 (Wed, 08 Oct 2025) EndedAt: 2025-10-08 17:44:20 -0400 (Wed, 08 Oct 2025) EllapsedTime: 36.8 seconds RetCode: 0 Status: OK PackageFile: keggorthology_2.61.0.tar.gz PackageFileSize: 787.9 KiB