Package: keggorthology Version: 2.61.0 Command: rm -rf keggorthology.buildbin-libdir && mkdir keggorthology.buildbin-libdir && /Users/biocbuild/BBS/utils/build-universal.sh keggorthology_2.61.0.tar.gz /Library/Frameworks/R.framework/Resources/bin/R keggorthology.buildbin-libdir StartedAt: 2025-10-10 02:41:56 -0400 (Fri, 10 Oct 2025) EndedAt: 2025-10-10 02:42:18 -0400 (Fri, 10 Oct 2025) EllapsedTime: 22.2 seconds RetCode: 0 Status: OK PackageFile: keggorthology_2.61.0.tgz PackageFileSize: 817 KiB