Package: kebabs Version: 1.43.1 Command: /Library/Frameworks/R.framework/Resources/bin/R CMD INSTALL kebabs StartedAt: 2025-10-01 15:09:02 -0400 (Wed, 01 Oct 2025) EndedAt: 2025-10-01 15:09:29 -0400 (Wed, 01 Oct 2025) EllapsedTime: 27.1 seconds RetCode: 0 Status: OK