Package: kebabs Version: 1.43.1 Command: rm -rf kebabs.buildbin-libdir && mkdir kebabs.buildbin-libdir && /Users/biocbuild/BBS/utils/build-universal.sh kebabs_1.43.1.tar.gz /Library/Frameworks/R.framework/Resources/bin/R kebabs.buildbin-libdir StartedAt: 2025-10-01 22:51:27 -0400 (Wed, 01 Oct 2025) EndedAt: 2025-10-01 22:51:56 -0400 (Wed, 01 Oct 2025) EllapsedTime: 29.7 seconds RetCode: 0 Status: OK PackageFile: kebabs_1.43.1.tgz PackageFileSize: 3.663 MiB