Package: katdetectr Version: 1.11.1 Command: /home/biocbuild/R/R/bin/R CMD INSTALL katdetectr StartedAt: 2025-10-20 21:02:48 -0000 (Mon, 20 Oct 2025) EndedAt: 2025-10-20 21:03:38 -0000 (Mon, 20 Oct 2025) EllapsedTime: 49.4 seconds RetCode: 0 Status: OK