Package: katdetectr Version: 1.11.1 Command: /home/biocbuild/bbs-3.22-bioc/R/bin/R CMD INSTALL katdetectr StartedAt: 2025-10-20 15:40:48 -0400 (Mon, 20 Oct 2025) EndedAt: 2025-10-20 15:41:27 -0400 (Mon, 20 Oct 2025) EllapsedTime: 38.7 seconds RetCode: 0 Status: OK