Package: katdetectr Version: 1.11.1 Command: /Library/Frameworks/R.framework/Resources/bin/R CMD INSTALL katdetectr StartedAt: 2025-10-20 15:38:02 -0400 (Mon, 20 Oct 2025) EndedAt: 2025-10-20 15:38:56 -0400 (Mon, 20 Oct 2025) EllapsedTime: 53.9 seconds RetCode: 0 Status: OK