Package: karyoploteR Version: 1.36.0 Command: /Library/Frameworks/R.framework/Resources/bin/R CMD build --keep-empty-dirs --no-resave-data karyoploteR StartedAt: 2025-10-31 16:53:07 -0400 (Fri, 31 Oct 2025) EndedAt: 2025-10-31 16:53:46 -0400 (Fri, 31 Oct 2025) EllapsedTime: 38.5 seconds RetCode: 0 Status: OK PackageFile: karyoploteR_1.36.0.tar.gz PackageFileSize: 2.593 MiB