Package: jazzPanda Version: 1.1.3 Command: /home/biocbuild/R/R/bin/R CMD INSTALL jazzPanda StartedAt: 2025-10-23 20:41:52 -0000 (Thu, 23 Oct 2025) EndedAt: 2025-10-23 20:42:34 -0000 (Thu, 23 Oct 2025) EllapsedTime: 42.2 seconds RetCode: 0 Status: OK