Package: jazzPanda Version: 1.1.1 Command: F:\biocbuild\bbs-3.22-bioc\R\bin\R.exe CMD check --no-multiarch --install=check:jazzPanda.install-out.txt --library=F:\biocbuild\bbs-3.22-bioc\R\library --no-vignettes --timings jazzPanda_1.1.1.tar.gz StartedAt: 2025-08-15 04:30:35 -0400 (Fri, 15 Aug 2025) EndedAt: 2025-08-15 04:39:18 -0400 (Fri, 15 Aug 2025) EllapsedTime: 522.8 seconds RetCode: 0 Status: OK CheckDir: jazzPanda.Rcheck Warnings: 0