Package: jazzPanda Version: 1.1.3 Command: /Library/Frameworks/R.framework/Resources/bin/R CMD INSTALL jazzPanda StartedAt: 2025-10-24 15:16:38 -0400 (Fri, 24 Oct 2025) EndedAt: 2025-10-24 15:16:51 -0400 (Fri, 24 Oct 2025) EllapsedTime: 13.1 seconds RetCode: 0 Status: OK