Package: jazzPanda Version: 1.1.3 Command: /Library/Frameworks/R.framework/Resources/bin/R CMD check --install=check:jazzPanda.install-out.txt --library=/Library/Frameworks/R.framework/Resources/library --no-vignettes --timings jazzPanda_1.1.3.tar.gz StartedAt: 2025-10-24 20:23:59 -0400 (Fri, 24 Oct 2025) EndedAt: 2025-10-24 20:27:02 -0400 (Fri, 24 Oct 2025) EllapsedTime: 183.3 seconds RetCode: 0 Status: OK CheckDir: jazzPanda.Rcheck Warnings: 0