Package: ivygapSE Version: 1.32.0 Command: /home/biocbuild/R/R/bin/R CMD check --install=check:ivygapSE.install-out.txt --library=/home/biocbuild/R/R/site-library --no-vignettes --timings ivygapSE_1.32.0.tar.gz StartedAt: 2025-11-14 10:53:18 -0000 (Fri, 14 Nov 2025) EndedAt: 2025-11-14 10:57:47 -0000 (Fri, 14 Nov 2025) EllapsedTime: 268.4 seconds RetCode: 0 Status: OK CheckDir: ivygapSE.Rcheck Warnings: 0