Package: ivygapSE Version: 1.32.0 Command: /home/biocbuild/R/R/bin/R CMD build --keep-empty-dirs --no-resave-data ivygapSE StartedAt: 2025-11-14 02:46:01 -0000 (Fri, 14 Nov 2025) EndedAt: 2025-11-14 02:48:48 -0000 (Fri, 14 Nov 2025) EllapsedTime: 167.1 seconds RetCode: 0 Status: OK PackageFile: ivygapSE_1.32.0.tar.gz PackageFileSize: 14.88 MiB