Package: ivygapSE Version: 1.31.0 Command: F:\biocbuild\bbs-3.22-bioc\R\bin\R.exe CMD check --no-multiarch --install=check:ivygapSE.install-out.txt --library=F:\biocbuild\bbs-3.22-bioc\R\library --no-vignettes --timings ivygapSE_1.31.0.tar.gz StartedAt: 2025-08-15 04:30:18 -0400 (Fri, 15 Aug 2025) EndedAt: 2025-08-15 04:34:16 -0400 (Fri, 15 Aug 2025) EllapsedTime: 238.8 seconds RetCode: 0 Status: OK CheckDir: ivygapSE.Rcheck Warnings: 0