Package: ivygapSE Version: 1.32.0 Command: /home/biocbuild/bbs-3.22-bioc/R/bin/R CMD build --keep-empty-dirs --no-resave-data --md5 ivygapSE StartedAt: 2025-11-14 18:22:50 -0500 (Fri, 14 Nov 2025) EndedAt: 2025-11-14 18:24:56 -0500 (Fri, 14 Nov 2025) EllapsedTime: 126.1 seconds RetCode: 0 Status: OK PackageFile: ivygapSE_1.32.0.tar.gz PackageFileSize: 15.44 MiB