Package: ivygapSE Version: 1.32.0 Command: /Library/Frameworks/R.framework/Resources/bin/R CMD INSTALL ivygapSE StartedAt: 2025-11-10 15:12:56 -0500 (Mon, 10 Nov 2025) EndedAt: 2025-11-10 15:13:06 -0500 (Mon, 10 Nov 2025) EllapsedTime: 10.5 seconds RetCode: 0 Status: OK