Package: iterativeBMAsurv Version: 1.67.0 Command: F:\biocbuild\bbs-3.22-bioc\R\bin\R.exe CMD INSTALL iterativeBMAsurv StartedAt: 2025-08-14 15:22:26 -0400 (Thu, 14 Aug 2025) EndedAt: 2025-08-14 15:23:36 -0400 (Thu, 14 Aug 2025) EllapsedTime: 69.9 seconds RetCode: 0 Status: OK