Package: iterativeBMAsurv Version: 1.67.0 Command: /home/biocbuild/bbs-3.22-bioc/R/bin/R CMD INSTALL iterativeBMAsurv StartedAt: 2025-10-20 15:04:10 -0400 (Mon, 20 Oct 2025) EndedAt: 2025-10-20 15:04:17 -0400 (Mon, 20 Oct 2025) EllapsedTime: 6.9 seconds RetCode: 0 Status: OK