Package: iterativeBMAsurv Version: 1.67.0 Command: /home/biocbuild/bbs-3.22-bioc/R/bin/R CMD build --keep-empty-dirs --no-resave-data --md5 iterativeBMAsurv StartedAt: 2025-10-20 18:14:41 -0400 (Mon, 20 Oct 2025) EndedAt: 2025-10-20 18:14:58 -0400 (Mon, 20 Oct 2025) EllapsedTime: 17.0 seconds RetCode: 0 Status: OK PackageFile: iterativeBMAsurv_1.67.0.tar.gz PackageFileSize: 198.8 KiB