Package: iterativeBMAsurv Version: 1.67.0 Command: /Library/Frameworks/R.framework/Resources/bin/R CMD INSTALL iterativeBMAsurv StartedAt: 2025-10-19 15:08:53 -0400 (Sun, 19 Oct 2025) EndedAt: 2025-10-19 15:09:31 -0400 (Sun, 19 Oct 2025) EllapsedTime: 37.8 seconds RetCode: 0 Status: OK