Package: iterativeBMAsurv Version: 1.67.0 Command: rm -rf iterativeBMAsurv.buildbin-libdir && mkdir iterativeBMAsurv.buildbin-libdir && /Users/biocbuild/BBS/utils/build-universal.sh iterativeBMAsurv_1.67.0.tar.gz /Library/Frameworks/R.framework/Resources/bin/R iterativeBMAsurv.buildbin-libdir StartedAt: 2025-10-20 03:15:38 -0400 (Mon, 20 Oct 2025) EndedAt: 2025-10-20 03:15:49 -0400 (Mon, 20 Oct 2025) EllapsedTime: 11.5 seconds RetCode: 0 Status: OK PackageFile: iterativeBMAsurv_1.67.0.tgz PackageFileSize: 274.1 KiB