Package: iterativeBMAsurv Version: 1.67.0 Command: /Library/Frameworks/R.framework/Resources/bin/R CMD INSTALL iterativeBMAsurv StartedAt: 2025-10-19 15:02:57 -0400 (Sun, 19 Oct 2025) EndedAt: 2025-10-19 15:03:05 -0400 (Sun, 19 Oct 2025) EllapsedTime: 8.0 seconds RetCode: 0 Status: OK