Package: iterativeBMAsurv Version: 1.67.0 Command: /Library/Frameworks/R.framework/Resources/bin/R CMD check --install=check:iterativeBMAsurv.install-out.txt --library=/Library/Frameworks/R.framework/Resources/library --no-vignettes --timings iterativeBMAsurv_1.67.0.tar.gz StartedAt: 2025-10-19 20:19:43 -0400 (Sun, 19 Oct 2025) EndedAt: 2025-10-19 20:20:13 -0400 (Sun, 19 Oct 2025) EllapsedTime: 30.3 seconds RetCode: 0 Status: WARNINGS CheckDir: iterativeBMAsurv.Rcheck Warnings: 1