Package: iterativeBMA Version: 1.67.0 Command: /home/biocbuild/R/R/bin/R CMD INSTALL iterativeBMA StartedAt: 2025-10-16 21:23:59 -0000 (Thu, 16 Oct 2025) EndedAt: 2025-10-16 21:24:16 -0000 (Thu, 16 Oct 2025) EllapsedTime: 17.5 seconds RetCode: 0 Status: OK