Package: iterativeBMA Version: 1.67.0 Command: /home/biocbuild/R/R/bin/R CMD check --install=check:iterativeBMA.install-out.txt --library=/home/biocbuild/R/R/site-library --no-vignettes --timings iterativeBMA_1.67.0.tar.gz StartedAt: 2025-10-17 10:25:43 -0000 (Fri, 17 Oct 2025) EndedAt: 2025-10-17 10:26:34 -0000 (Fri, 17 Oct 2025) EllapsedTime: 51.1 seconds RetCode: 0 Status: OK CheckDir: iterativeBMA.Rcheck Warnings: 0