Package: iterativeBMA Version: 1.67.0 Command: /home/biocbuild/R/R/bin/R CMD build --keep-empty-dirs --no-resave-data iterativeBMA StartedAt: 2025-10-17 02:07:53 -0000 (Fri, 17 Oct 2025) EndedAt: 2025-10-17 02:08:12 -0000 (Fri, 17 Oct 2025) EllapsedTime: 19.0 seconds RetCode: 0 Status: OK PackageFile: iterativeBMA_1.67.0.tar.gz PackageFileSize: 153.8 KiB