Package: iterativeBMA Version: 1.67.0 Command: /home/biocbuild/bbs-3.22-bioc/R/bin/R CMD build --keep-empty-dirs --no-resave-data --md5 iterativeBMA StartedAt: 2025-10-19 18:18:42 -0400 (Sun, 19 Oct 2025) EndedAt: 2025-10-19 18:18:57 -0400 (Sun, 19 Oct 2025) EllapsedTime: 15.1 seconds RetCode: 0 Status: OK PackageFile: iterativeBMA_1.67.0.tar.gz PackageFileSize: 160 KiB