Package: iterativeBMA Version: 1.67.0 Command: /Library/Frameworks/R.framework/Resources/bin/R CMD INSTALL iterativeBMA StartedAt: 2025-10-19 15:15:59 -0400 (Sun, 19 Oct 2025) EndedAt: 2025-10-19 15:16:09 -0400 (Sun, 19 Oct 2025) EllapsedTime: 10.5 seconds RetCode: 0 Status: OK