Package: isobar Version: 1.55.0 Command: /Library/Frameworks/R.framework/Resources/bin/R CMD build --keep-empty-dirs --no-resave-data isobar StartedAt: 2025-10-20 17:45:06 -0400 (Mon, 20 Oct 2025) EndedAt: 2025-10-20 17:47:11 -0400 (Mon, 20 Oct 2025) EllapsedTime: 124.7 seconds RetCode: 0 Status: OK PackageFile: isobar_1.55.0.tar.gz PackageFileSize: 2.766 MiB