Package: isobar Version: 1.55.0 Command: /Library/Frameworks/R.framework/Resources/bin/R CMD INSTALL isobar StartedAt: 2025-10-19 15:09:09 -0400 (Sun, 19 Oct 2025) EndedAt: 2025-10-19 15:09:22 -0400 (Sun, 19 Oct 2025) EllapsedTime: 13.3 seconds RetCode: 0 Status: OK