Package: isobar Version: 1.55.0 Command: /Library/Frameworks/R.framework/Resources/bin/R CMD check --install=check:isobar.install-out.txt --library=/Library/Frameworks/R.framework/Resources/library --no-vignettes --timings isobar_1.55.0.tar.gz StartedAt: 2025-10-19 20:19:09 -0400 (Sun, 19 Oct 2025) EndedAt: 2025-10-19 20:20:26 -0400 (Sun, 19 Oct 2025) EllapsedTime: 77.0 seconds RetCode: 0 Status: WARNINGS CheckDir: isobar.Rcheck Warnings: 2