Package: isobar Version: 1.55.0 Command: /Library/Frameworks/R.framework/Resources/bin/R CMD build --keep-empty-dirs --no-resave-data isobar StartedAt: 2025-10-19 16:47:14 -0400 (Sun, 19 Oct 2025) EndedAt: 2025-10-19 16:47:50 -0400 (Sun, 19 Oct 2025) EllapsedTime: 35.4 seconds RetCode: 0 Status: OK PackageFile: isobar_1.55.0.tar.gz PackageFileSize: 2.771 MiB