Package: iscream Version: 1.0.0 Command: /Library/Frameworks/R.framework/Resources/bin/R CMD check --install=check:iscream.install-out.txt --library=/Library/Frameworks/R.framework/Resources/library --no-vignettes --timings iscream_1.0.0.tar.gz StartedAt: 2025-10-30 20:21:18 -0400 (Thu, 30 Oct 2025) EndedAt: 2025-10-30 20:21:52 -0400 (Thu, 30 Oct 2025) EllapsedTime: 33.4 seconds RetCode: 0 Status: OK CheckDir: iscream.Rcheck Warnings: 0