Package: iscream Version: 0.99.10 Maintainer: James Eapen MaintainerEmail: james.eapen at vai.org git_url: https://git.bioconductor.org/packages/iscream git_branch: devel git_last_commit: ab836a6 git_last_commit_date: 2025-10-25 15:34:36 -0400 (Sat, 25 Oct 2025)