Package: interactiveDisplayBase Version: 1.47.1 Command: /Library/Frameworks/R.framework/Resources/bin/R CMD build --keep-empty-dirs --no-resave-data interactiveDisplayBase StartedAt: 2025-10-19 16:45:53 -0400 (Sun, 19 Oct 2025) EndedAt: 2025-10-19 16:45:56 -0400 (Sun, 19 Oct 2025) EllapsedTime: 3.0 seconds RetCode: 0 Status: OK PackageFile: interactiveDisplayBase_1.47.1.tar.gz PackageFileSize: 8.119 KiB