Package: interactiveDisplay Version: 1.47.1 Command: /Library/Frameworks/R.framework/Resources/bin/R CMD INSTALL interactiveDisplay StartedAt: 2025-10-19 15:49:23 -0400 (Sun, 19 Oct 2025) EndedAt: 2025-10-19 15:49:57 -0400 (Sun, 19 Oct 2025) EllapsedTime: 34.5 seconds RetCode: 0 Status: OK