Package: interactiveDisplay Version: 1.47.1 Command: /Library/Frameworks/R.framework/Resources/bin/R CMD check --install=check:interactiveDisplay.install-out.txt --library=/Library/Frameworks/R.framework/Resources/library --no-vignettes --timings interactiveDisplay_1.47.1.tar.gz StartedAt: 2025-10-19 23:13:36 -0400 (Sun, 19 Oct 2025) EndedAt: 2025-10-19 23:17:04 -0400 (Sun, 19 Oct 2025) EllapsedTime: 207.7 seconds RetCode: 0 Status: OK CheckDir: interactiveDisplay.Rcheck Warnings: 0