Package: interactiveDisplay Version: 1.47.1 Command: /Library/Frameworks/R.framework/Resources/bin/R CMD build --keep-empty-dirs --no-resave-data interactiveDisplay StartedAt: 2025-10-19 17:44:04 -0400 (Sun, 19 Oct 2025) EndedAt: 2025-10-19 17:45:18 -0400 (Sun, 19 Oct 2025) EllapsedTime: 74.2 seconds RetCode: 0 Status: OK PackageFile: interactiveDisplay_1.47.1.tar.gz PackageFileSize: 4.56 MiB