Package: interacCircos Version: 1.19.0 Command: /home/biocbuild/bbs-3.22-bioc/R/bin/R CMD INSTALL interacCircos StartedAt: 2025-10-20 15:06:02 -0400 (Mon, 20 Oct 2025) EndedAt: 2025-10-20 15:06:41 -0400 (Mon, 20 Oct 2025) EllapsedTime: 39.0 seconds RetCode: 0 Status: OK