Package: interacCircos Version: 1.19.0 Command: /Library/Frameworks/R.framework/Resources/bin/R CMD INSTALL interacCircos StartedAt: 2025-10-19 15:10:46 -0400 (Sun, 19 Oct 2025) EndedAt: 2025-10-19 15:11:34 -0400 (Sun, 19 Oct 2025) EllapsedTime: 47.7 seconds RetCode: 0 Status: OK